BEGIN:VCALENDAR
VERSION:2.0
PRODID:-//ChamberMaster//Event Calendar 2.0//EN
METHOD:PUBLISH
X-PUBLISHED-TTL:P3D
REFRESH-INTERVAL:P3D
CALSCALE:GREGORIAN
BEGIN:VEVENT
DTSTART:20251007T220000Z
DTEND:20251007T233000Z
X-MICROSOFT-CDO-ALLDAYEVENT:FALSE
SUMMARY:Starting Your Business 101 - Online
DESCRIPTION:If you're entertaining the idea of starting your own business\, your FIRST STEP is to attend the free Salt Lake SBDC Starting Your Business 101 workshop.\n\n\n\nIn this 1.5 hour workshop\, you will learn\, not only the basics from a business expert that has years of experience\, but you'll also learn about...\n\n- Steps for registering your business with the State of Utah and with a city/county.\n\n- Overview of the different legal entity types for your business.\n\n- The types of available funding for your business.\n\n- The smart method to validate your idea.\n\n- How to create a business plan.\n\n- Tips and ideas on how to approach your marketing.\n\n\n\n*** After registering\, we will send you information for accessing the online webinar***
X-ALT-DESC;FMTTYPE=text/html:<span style="color:rgb(119\, 119\, 119)\; font-family:open sans\,sans-serif\; font-size:16px">If you&rsquo\;re entertaining the idea of starting your own business\, your FIRST STEP is to attend the free Salt Lake SBDC Starting Your Business 101 workshop.<br />\n<br />\nIn this 1.5 hour workshop\, you will learn\, not only the basics from a business expert that has years of experience\, but you&rsquo\;ll also learn about...<br />\n- Steps for registering your business with the State of Utah and with a city/county.<br />\n- Overview of the different legal entity types for your business.<br />\n- The types of available funding for your business.<br />\n- The smart method to validate your idea.<br />\n- How to create a business plan.<br />\n- Tips and ideas on how to approach your marketing.<br />\n<br />\n<strong>*** After registering\, we will send you information for accessing the online webinar***</strong></span>
LOCATION:Online-Zoom *** After registering\, we will send you information for accessing the online webinar***
UID:e.3110.2716
SEQUENCE:3
DTSTAMP:20260424T224411Z
URL:https://business.chamberwest.com/events/details/starting-your-business-101-online-2716
END:VEVENT

END:VCALENDAR
