BEGIN:VCALENDAR
VERSION:2.0
PRODID:-//ChamberMaster//Event Calendar 2.0//EN
METHOD:PUBLISH
X-PUBLISHED-TTL:P3D
REFRESH-INTERVAL:P3D
CALSCALE:GREGORIAN
BEGIN:VEVENT
DTSTART:20250131T160000Z
DTEND:20250131T190000Z
X-MICROSOFT-CDO-ALLDAYEVENT:FALSE
SUMMARY:Exodus Parking Lot
DESCRIPTION:Cap'n Tippy will be serving up some tasty hot or cold drinks. Coffee\, Specialty drinks\, Lemonades\, Chai tea\, Energy drinks and Hot Chocolate.
X-ALT-DESC;FMTTYPE=text/html:Cap&#39\;n Tippy will be serving up some tasty hot or cold drinks. Coffee\, Specialty drinks\, Lemonades\, Chai tea\, Energy drinks and Hot Chocolate.
LOCATION:Exodus on 3665 S 8400 W\, Magna\, UT 84044
UID:e.3110.2675
SEQUENCE:3
DTSTAMP:20260425T124624Z
URL:https://business.chamberwest.com/events/details/exodus-parking-lot-2675
END:VEVENT

END:VCALENDAR
